BEGIN:VCALENDAR
VERSION:2.0
PRODID:-//ChamberMaster//Event Calendar 2.0//EN
METHOD:PUBLISH
X-PUBLISHED-TTL:P3D
REFRESH-INTERVAL:P3D
CALSCALE:GREGORIAN
BEGIN:VEVENT
DTSTART:20260427T230000Z
DTEND:20260428T003000Z
X-MICROSOFT-CDO-ALLDAYEVENT:FALSE
SUMMARY:Tapestries from Europe to America
DESCRIPTION:Program:\n\nW. A. Mozart | Flute Quartet No. 1\n\nAnton n Dvor k | String Quartet No. 12\, "American"\n\nJohannes Brahms | Piano Trio in C Major\n\n\n\nMusicians: \n\n\n\nKrista Kwon\, flute\n\nMitchell Newman\, violin\n\nRichard Hsu\, violin\n\nLaura Gallucci\, viola\n\nNoreen Silver\, cello\n\nPhillip Silver\, piano
X-ALT-DESC;FMTTYPE=text/html:<div>\n<h4><strong>Program:</strong></h4>\n\n<p>W. A. Mozart<em>&nbsp\;|</em>&nbsp\;Flute Quartet No. 1<br />\nAnton&iacute\;n Dvor&aacute\;k | String Quartet No. 12\, &ldquo\;American&rdquo\;<br />\nJohannes Brahms | Piano Trio in C Major</p>\n</div>\n\n<div>\n<h4><strong>Musicians:&nbsp\;</strong></h4>\n</div>\n\n<div>\n<div>Krista Kwon\, flute<br />\nMitchell Newman\, violin<br />\nRichard Hsu\, violin<br />\nLaura Gallucci\, viola<br />\nNoreen Silver\, cello<br />\nPhillip Silver\, piano</div>\n</div>\n
LOCATION:The Gracie Theatre Beardsley Meeting House 180 College Circle Bangor\, ME 04401
UID:e.626.15899
SEQUENCE:3
DTSTAMP:20260424T223029Z
URL:http://members.bangorregion.com/events/details/tapestries-from-europe-to-america-15899
END:VEVENT

END:VCALENDAR
