BEGIN:VCALENDAR
VERSION:2.0
PRODID:-//ChamberMaster//Event Calendar 2.0//EN
METHOD:PUBLISH
X-PUBLISHED-TTL:P3D
REFRESH-INTERVAL:P3D
CALSCALE:GREGORIAN
BEGIN:VEVENT
DTSTART:20260520T203000Z
DTEND:20260520T223000Z
X-MICROSOFT-CDO-ALLDAYEVENT:FALSE
SUMMARY:Maine PR Council — Spring Member Mixer
DESCRIPTION:Reconnect. Relax. Strengthen your statewide professional network.\n\nJoin us on Wednesday\, May 20 from 4:30 to 6:30 p.m. at Bayside Bowl in Portland for our annual spring member mixer. We'll gather upstairs in the Mezzanine overlooking the West lanes for a relaxed\, late-afternoon get-together with MPRC members and colleagues. If you've been a member for years\, we'd love to see you again. If you're newer to MPRC or thinking about getting more involved\, come and connect with us!\n\nMPRC will provide light appetizers for attendees and a cash bar will be available. Bring a colleague or invite a friend\, there's plenty of parking (https://bit.ly/bayside-parking).\n\nAs a volunteer-led professional organization\, member mixers like this are one of the simplest and most valuable ways we stay connected as a community. Please RSVP so we can plan for headcount. We hope to see you there!\n\n\n\nFULL EVENT INFORMATION: https://meprcouncil.org/event-calendar/#!event/2026/5/20/spring-mprc-member-mixer-at-bayside-bowl
X-ALT-DESC;FMTTYPE=text/html:<p><em>Reconnect. Relax. Strengthen your statewide professional network.</em></p>\n\n<p>Join us on&nbsp\;<strong><a href="https://meprcouncil.org/event-calendar/#!event/2026/5/20/spring-mprc-member-mixer-at-bayside-bowl">Wednesday\, May 20 from 4:30 to 6:30 p.m. at Bayside Bowl in Portland</a>&nbsp\;</strong>for our annual spring member mixer. We&rsquo\;ll gather upstairs in the Mezzanine overlooking the West lanes for a relaxed\, late-afternoon get-together with MPRC members and colleagues. If you&rsquo\;ve been a member for years\, we&rsquo\;d love to see you again. If you&rsquo\;re newer to MPRC or thinking about getting more involved\, come and connect with us!</p>\n\n<p>MPRC will provide light appetizers for attendees and a cash bar will be available. Bring a colleague or invite a friend\, there&rsquo\;s plenty of parking (https://bit.ly/bayside-parking).</p>\n\n<p>As a volunteer-led professional organization\, member mixers like this are one of the simplest and most valuable ways we stay connected as a community. Please RSVP so we can plan for headcount. We hope to see you there!<br />\n<br />\n<strong>FULL EVENT INFORMATION:&nbsp\;</strong><a href="https://meprcouncil.org/event-calendar/#!event/2026/5/20/spring-mprc-member-mixer-at-bayside-bowl">https://meprcouncil.org/event-calendar/#!event/2026/5/20/spring-mprc-member-mixer-at-bayside-bowl</a></p>\n
LOCATION:Bayside Bowl 58 Alder Street Portland\, ME 04106
UID:e.626.15894
SEQUENCE:3
DTSTAMP:20260425T024851Z
URL:http://members.bangorregion.com/events/details/maine-pr-council-spring-member-mixer-15894
END:VEVENT

END:VCALENDAR
