BEGIN:VCALENDAR
VERSION:2.0
PRODID:-//ChamberMaster//Event Calendar 2.0//EN
METHOD:PUBLISH
X-PUBLISHED-TTL:P3D
REFRESH-INTERVAL:P3D
CALSCALE:GREGORIAN
BEGIN:VEVENT
DTSTART:20260616T210000Z
DTEND:20260616T230000Z
X-MICROSOFT-CDO-ALLDAYEVENT:FALSE
SUMMARY:Maine PR Council — Golden Arrow Awards Reception
DESCRIPTION:Join us in recognizing Maine's most impactful public relations\, communications\, and marketing work from 2025 at this year's Golden Arrow Awards\, presented by the Maine Public Relations Council. This annual event highlights the campaigns\, strategies\, and results that are shaping our field across the state.\n\nThe ceremony will take place starting at 6:00 p.m. on Tuesday\, June 16\, at the Harraseeket Inn (Merry Meeting Room)\, located at 162 Main Street in Freeport\, with registration and networking beginning at 5:00 p.m.\n\nWhether you're being recognized or celebrating your peers\, the Golden Arrows are a chance to come together as a community and reflect on the work that moved Maine forward this past year. Enjoy light bites and good company as we recognize the people and projects behind it all. Arrive early to connect\, stay for the awards\, and celebrate our collective achievements together!\n\n\n\nFULL EVENT INFORMATION: https://meprcouncil.org/event-calendar/#!event/2026/6/16/mprc-golden-arrow-award-presentation
X-ALT-DESC;FMTTYPE=text/html:<p>Join us in recognizing Maine&rsquo\;s most impactful public relations\, communications\, and marketing work from 2025 at this year&rsquo\;s <a href="https://meprcouncil.org/event-calendar/#!event/2026/6/16/mprc-golden-arrow-award-presentation"><strong>Golden Arrow Awards\,</strong></a> presented by the Maine Public Relations Council. This annual event highlights the campaigns\, strategies\, and results that are shaping our field across the state.</p>\n\n<p><strong>The ceremony will take place starting at 6:00 p.m. on Tuesday\, June 16\, at the Harraseeket Inn (Merry Meeting Room)\, located at 162 Main Street in Freeport\, with registration and networking beginning at 5:00 p.m.</strong></p>\n\n<p>Whether you&rsquo\;re being recognized or celebrating your peers\, the Golden Arrows are a chance to come together as a community and reflect on the work that moved Maine forward this past year. Enjoy light bites and good company as we recognize the people and projects behind it all. Arrive early to connect\, stay for the awards\, and celebrate our collective achievements together!<br />\n<br />\n<strong>FULL EVENT INFORMATION:&nbsp\;</strong><a href="https://meprcouncil.org/event-calendar/#!event/2026/6/16/mprc-golden-arrow-award-presentation">https://meprcouncil.org/event-calendar/#!event/2026/6/16/mprc-golden-arrow-award-presentation</a></p>\n
LOCATION:Harraseeket Inn (Merry Meeting Room) 162 Main Street Freeport\, ME 04032
UID:e.626.15895
SEQUENCE:3
DTSTAMP:20260425T024729Z
URL:http://members.bangorregion.com/events/details/maine-pr-council-golden-arrow-awards-reception-15895
END:VEVENT

END:VCALENDAR
